BEGIN:VCALENDAR
VERSION:2.0
PRODID:-//Nepali Calendar//EN
BEGIN:VEVENT
UID:4656773ca5f92e07dad7ae7258892e0d@nepalicalendar.com
DTSTAMP:20260422T222947Z
DTSTART;VALUE=DATE:20240416
DTEND;VALUE=DATE:20240417
SUMMARY:चैते दशैँ
DESCRIPTION:चैते दशैँ
END:VEVENT
END:VCALENDAR