BEGIN:VCALENDAR
VERSION:2.0
PRODID:-//Nepali Calendar//EN
BEGIN:VEVENT
UID:c2e77d7419fef966d911e4c75c8b90a2@nepalicalendar.com
DTSTAMP:20260422T222639Z
DTSTART;VALUE=DATE:20240416
DTEND;VALUE=DATE:20240417
SUMMARY:जनबहा द्यः जात्रा (सेतो मच्छिन्द्रनाथ जात्रा)
DESCRIPTION:जनबहा द्यः जात्रा (सेतो मच्छिन्द्रनाथ जात्रा)
END:VEVENT
END:VCALENDAR