BEGIN:VCALENDAR
VERSION:2.0
PRODID:-//Nepali Calendar//EN
BEGIN:VEVENT
UID:3694accd8ff813106df58061a7cdeb45@nepalicalendar.com
DTSTAMP:20260422T005656Z
DTSTART;VALUE=DATE:20250604
DTEND;VALUE=DATE:20250605
SUMMARY:जातीय भेदभाव तथा छुवाछुत उन्मुलन राष्ट्रिय दिवस
DESCRIPTION:जातीय भेदभाव तथा छुवाछुत उन्मुलन राष्ट्रिय दिवस
END:VEVENT
END:VCALENDAR