BEGIN:VCALENDAR
VERSION:2.0
PRODID:-//Nepali Calendar//EN
BEGIN:VEVENT
UID:13545f85a695a1135cb04e33d4d6ccfd@nepalicalendar.com
DTSTAMP:20260422T222921Z
DTSTART;VALUE=DATE:20240415
DTEND;VALUE=DATE:20240416
SUMMARY:विश्व कला दिवस
DESCRIPTION:विश्व कला दिवस
END:VEVENT
END:VCALENDAR