BEGIN:VCALENDAR
VERSION:2.0
PRODID:-//Nepali Calendar//EN
BEGIN:VEVENT
UID:076216560cbab0e4d0c0ffad0c81b370@nepalicalendar.com
DTSTAMP:20260421T163413Z
DTSTART;VALUE=DATE:20251116
DTEND;VALUE=DATE:20251117
SUMMARY:अन्तर्राष्ट्रिय सहनशीलता दिवस
DESCRIPTION:अन्तर्राष्ट्रिय सहनशीलता दिवस
END:VEVENT
END:VCALENDAR