BEGIN:VCALENDAR
VERSION:2.0
PRODID:-//Nepali Calendar//EN
BEGIN:VEVENT
UID:b91b6d09990d232090d60d6328c273ca@nepalicalendar.com
DTSTAMP:20260421T163916Z
DTSTART;VALUE=DATE:20251115
DTEND;VALUE=DATE:20251116
SUMMARY:उत्पतिका एकादशी व्रत
DESCRIPTION:उत्पतिका एकादशी व्रत
END:VEVENT
END:VCALENDAR