BEGIN:VCALENDAR
VERSION:2.0
PRODID:-//Nepali Calendar//EN
BEGIN:VEVENT
UID:cbfd08a4b177fc8d31ac9810f89c0f47@nepalicalendar.com
DTSTAMP:20260421T163818Z
DTSTART;VALUE=DATE:20251114
DTEND;VALUE=DATE:20251115
SUMMARY:सांस्कृतिक सम्पत्तिको अवैध ओसारपसार विरुद्धको अन्तर्राष्ट्रिय दिवस
DESCRIPTION:सांस्कृतिक सम्पत्तिको अवैध ओसारपसार विरुद्धको अन्तर्राष्ट्रिय दिवस
END:VEVENT
END:VCALENDAR