BEGIN:VCALENDAR
VERSION:2.0
PRODID:-//Nepali Calendar//EN
BEGIN:VEVENT
UID:acead7f2c5290988d888f0074e307801@nepalicalendar.com
DTSTAMP:20260421T163845Z
DTSTART;VALUE=DATE:20251114
DTEND;VALUE=DATE:20251115
SUMMARY:विश्व मधुमेह दिवस
DESCRIPTION:विश्व मधुमेह दिवस
END:VEVENT
END:VCALENDAR