BEGIN:VCALENDAR
VERSION:2.0
PRODID:-//Nepali Calendar//EN
BEGIN:VEVENT
UID:5040e65286594557b371f974f74e9284@nepalicalendar.com
DTSTAMP:20260421T163743Z
DTSTART;VALUE=DATE:20251112
DTEND;VALUE=DATE:20251113
SUMMARY:विश्व निमोनिया दिवस
DESCRIPTION:विश्व निमोनिया दिवस
END:VEVENT
END:VCALENDAR