BEGIN:VCALENDAR
VERSION:2.0
PRODID:-//Nepali Calendar//EN
BEGIN:VEVENT
UID:d08746f2e89cf883ac142c59f50f6af0@nepalicalendar.com
DTSTAMP:20260421T163245Z
DTSTART;VALUE=DATE:20251112
DTEND;VALUE=DATE:20251113
SUMMARY:बुधाष्टमी व्रत
DESCRIPTION:बुधाष्टमी व्रत
END:VEVENT
END:VCALENDAR