BEGIN:VCALENDAR
VERSION:2.0
PRODID:-//Nepali Calendar//EN
BEGIN:VEVENT
UID:4c53e586d4afe61bcab7a3f7a3e80407@nepalicalendar.com
DTSTAMP:20260421T163952Z
DTSTART;VALUE=DATE:20251110
DTEND;VALUE=DATE:20251111
SUMMARY:शान्ति र विकासको लागि विश्व विज्ञान दिवस
DESCRIPTION:शान्ति र विकासको लागि विश्व विज्ञान दिवस
END:VEVENT
END:VCALENDAR