BEGIN:VCALENDAR
VERSION:2.0
PRODID:-//Nepali Calendar//EN
BEGIN:VEVENT
UID:89fef3ec4d7b06c10626a5af54e9feb9@nepalicalendar.com
DTSTAMP:20260422T023103Z
DTSTART;VALUE=DATE:20250414
DTEND;VALUE=DATE:20250415
SUMMARY:नयाँ वर्ष
DESCRIPTION:नयाँ वर्ष
END:VEVENT
END:VCALENDAR