BEGIN:VCALENDAR
VERSION:2.0
PRODID:-//Nepali Calendar//EN
BEGIN:VEVENT
UID:1a970c29a596f4c4e41ae6859a91651f@nepalicalendar.com
DTSTAMP:20260421T164134Z
DTSTART;VALUE=DATE:20251109
DTEND;VALUE=DATE:20251110
SUMMARY:विश्व स्वतन्त्रता दिवस
DESCRIPTION:विश्व स्वतन्त्रता दिवस
END:VEVENT
END:VCALENDAR