BEGIN:VCALENDAR
VERSION:2.0
PRODID:-//Nepali Calendar//EN
BEGIN:VEVENT
UID:7e6ea252508d11e661514ef1ca7f7141@nepalicalendar.com
DTSTAMP:20260421T163550Z
DTSTART;VALUE=DATE:20251108
DTEND;VALUE=DATE:20251109
SUMMARY:विश्व रेडियोग्राफी दिवस
DESCRIPTION:विश्व रेडियोग्राफी दिवस
END:VEVENT
END:VCALENDAR