BEGIN:VCALENDAR
VERSION:2.0
PRODID:-//Nepali Calendar//EN
BEGIN:VEVENT
UID:63da038cb4c4bd4ce3876ef8ff158e2b@nepalicalendar.com
DTSTAMP:20260421T181112Z
DTSTART;VALUE=DATE:20251105
DTEND;VALUE=DATE:20251106
SUMMARY:गुरु नानक जयन्ती (सिख धर्मावलम्बीहरूलाई मात्र)
DESCRIPTION:गुरु नानक जयन्ती (सिख धर्मावलम्बीहरूलाई मात्र)
END:VEVENT
END:VCALENDAR