BEGIN:VCALENDAR
VERSION:2.0
PRODID:-//Nepali Calendar//EN
BEGIN:VEVENT
UID:37fd9c7cc0bc7d03e237ea46433a2daa@nepalicalendar.com
DTSTAMP:20260421T164054Z
DTSTART;VALUE=DATE:20251105
DTEND;VALUE=DATE:20251106
SUMMARY:कार्तिक स्नान समाप्ति
DESCRIPTION:कार्तिक स्नान समाप्ति
END:VEVENT
END:VCALENDAR