BEGIN:VCALENDAR
VERSION:2.0
PRODID:-//Nepali Calendar//EN
BEGIN:VEVENT
UID:e8e099dd379ef36d74fc8799ae18064c@nepalicalendar.com
DTSTAMP:20260421T163219Z
DTSTART;VALUE=DATE:20251105
DTEND;VALUE=DATE:20251106
SUMMARY:चतुर्मास व्रत समाप्ति
DESCRIPTION:चतुर्मास व्रत समाप्ति
END:VEVENT
END:VCALENDAR