BEGIN:VCALENDAR
VERSION:2.0
PRODID:-//Nepali Calendar//EN
BEGIN:VEVENT
UID:68e0897f11645d04f7c0b260a3b4f76a@nepalicalendar.com
DTSTAMP:20260421T164024Z
DTSTART;VALUE=DATE:20251103
DTEND;VALUE=DATE:20251104
SUMMARY:सोम प्रदोष व्रत
DESCRIPTION:सोम प्रदोष व्रत
END:VEVENT
END:VCALENDAR