BEGIN:VCALENDAR
VERSION:2.0
PRODID:-//Nepali Calendar//EN
BEGIN:VEVENT
UID:acc16a7fac01bf58e65ee6f733925ba9@nepalicalendar.com
DTSTAMP:20260421T163333Z
DTSTART;VALUE=DATE:20251101
DTEND;VALUE=DATE:20251102
SUMMARY:Tulsi Vivah
DESCRIPTION:Tulsi Vivah
END:VEVENT
END:VCALENDAR