BEGIN:VCALENDAR
VERSION:2.0
PRODID:-//Nepali Calendar//EN
BEGIN:VEVENT
UID:49e03e9f42b15f7c1c09bfaa15591e1b@nepalicalendar.com
DTSTAMP:20260421T163742Z
DTSTART;VALUE=DATE:20251101
DTEND;VALUE=DATE:20251102
SUMMARY:हरिबोधिनी एकादशी व्रत (तुलसी बिवाह)
DESCRIPTION:हरिबोधिनी एकादशी व्रत (तुलसी बिवाह)
END:VEVENT
END:VCALENDAR