BEGIN:VCALENDAR
VERSION:2.0
PRODID:-//Nepali Calendar//EN
BEGIN:VEVENT
UID:a3d268c169c428edbaad6d032c4500c4@nepalicalendar.com
DTSTAMP:20260421T163420Z
DTSTART;VALUE=DATE:20251031
DTEND;VALUE=DATE:20251101
SUMMARY:विश्व शहरीकरण दिवस
DESCRIPTION:विश्व शहरीकरण दिवस
END:VEVENT
END:VCALENDAR