BEGIN:VCALENDAR
VERSION:2.0
PRODID:-//Nepali Calendar//EN
BEGIN:VEVENT
UID:6eb58d0e82da6f630878b70d2b33a5f5@nepalicalendar.com
DTSTAMP:20260422T005818Z
DTSTART;VALUE=DATE:20250603
DTEND;VALUE=DATE:20250604
SUMMARY:भौमाष्टमी व्रत
DESCRIPTION:भौमाष्टमी व्रत
END:VEVENT
END:VCALENDAR