BEGIN:VCALENDAR
VERSION:2.0
PRODID:-//Nepali Calendar//EN
BEGIN:VEVENT
UID:95fc3432a2c2f5f34dc3fcc53b4a1508@nepalicalendar.com
DTSTAMP:20260421T163952Z
DTSTART;VALUE=DATE:20251030
DTEND;VALUE=DATE:20251031
SUMMARY:कुष्मान्ड नवमी व्रत
DESCRIPTION:कुष्मान्ड नवमी व्रत
END:VEVENT
END:VCALENDAR