BEGIN:VCALENDAR
VERSION:2.0
PRODID:-//Nepali Calendar//EN
BEGIN:VEVENT
UID:56139567d299b90b23e00c4e7cd4329a@nepalicalendar.com
DTSTAMP:20260421T163716Z
DTSTART;VALUE=DATE:20251029
DTEND;VALUE=DATE:20251030
SUMMARY:गोपाष्टमी
DESCRIPTION:गोपाष्टमी
END:VEVENT
END:VCALENDAR