BEGIN:VCALENDAR
VERSION:2.0
PRODID:-//Nepali Calendar//EN
BEGIN:VEVENT
UID:c3294ceff54a0f73e0e3c087cb3da261@nepalicalendar.com
DTSTAMP:20260421T163357Z
DTSTART;VALUE=DATE:20251029
DTEND;VALUE=DATE:20251030
SUMMARY:बुधाष्टमी व्रत
DESCRIPTION:बुधाष्टमी व्रत
END:VEVENT
END:VCALENDAR