BEGIN:VCALENDAR
VERSION:2.0
PRODID:-//Nepali Calendar//EN
BEGIN:VEVENT
UID:9672ba8956a30cf500a993627039572f@nepalicalendar.com
DTSTAMP:20260421T163334Z
DTSTART;VALUE=DATE:20251027
DTEND;VALUE=DATE:20251028
SUMMARY:छठ पर्व
DESCRIPTION:छठ पर्व
END:VEVENT
END:VCALENDAR