BEGIN:VCALENDAR
VERSION:2.0
PRODID:-//Nepali Calendar//EN
BEGIN:VEVENT
UID:8807f3e78c4e6e700271e64b07ab4a64@nepalicalendar.com
DTSTAMP:20260421T163845Z
DTSTART;VALUE=DATE:20251024
DTEND;VALUE=DATE:20251025
SUMMARY:विश्व विकास सूचना दिवस
DESCRIPTION:विश्व विकास सूचना दिवस
END:VEVENT
END:VCALENDAR