BEGIN:VCALENDAR
VERSION:2.0
PRODID:-//Nepali Calendar//EN
BEGIN:VEVENT
UID:1a1aca96927d1d2a51d0a7cedc79f6b8@nepalicalendar.com
DTSTAMP:20260421T163413Z
DTSTART;VALUE=DATE:20251024
DTEND;VALUE=DATE:20251025
SUMMARY:संयुक्त राष्ट्रसंघ दिवस
DESCRIPTION:संयुक्त राष्ट्रसंघ दिवस
END:VEVENT
END:VCALENDAR