BEGIN:VCALENDAR
VERSION:2.0
PRODID:-//Nepali Calendar//EN
BEGIN:VEVENT
UID:313cbdf3517fcd704f45d830eb73a5bd@nepalicalendar.com
DTSTAMP:20260421T163917Z
DTSTART;VALUE=DATE:20251024
DTEND;VALUE=DATE:20251025
SUMMARY:तिहार विदा
DESCRIPTION:तिहार विदा
END:VEVENT
END:VCALENDAR