BEGIN:VCALENDAR
VERSION:2.0
PRODID:-//Nepali Calendar//EN
BEGIN:VEVENT
UID:29e35921614393d4ee40bd4efeddefd0@nepalicalendar.com
DTSTAMP:20260421T163219Z
DTSTART;VALUE=DATE:20251023
DTEND;VALUE=DATE:20251024
SUMMARY:किजा पूजा
DESCRIPTION:किजा पूजा
END:VEVENT
END:VCALENDAR