BEGIN:VCALENDAR
VERSION:2.0
PRODID:-//Nepali Calendar//EN
BEGIN:VEVENT
UID:56d0529a58a38c2da488b307f922189b@nepalicalendar.com
DTSTAMP:20260421T163334Z
DTSTART;VALUE=DATE:20251023
DTEND;VALUE=DATE:20251024
SUMMARY:भाइटीका
DESCRIPTION:भाइटीका
END:VEVENT
END:VCALENDAR