BEGIN:VCALENDAR
VERSION:2.0
PRODID:-//Nepali Calendar//EN
BEGIN:VEVENT
UID:ee7fee460c265941aa218110c8ae1d62@nepalicalendar.com
DTSTAMP:20260422T005644Z
DTSTART;VALUE=DATE:20250601
DTEND;VALUE=DATE:20250602
SUMMARY:विश्व बुवाआमा दिवस
DESCRIPTION:विश्व बुवाआमा दिवस
END:VEVENT
END:VCALENDAR