BEGIN:VCALENDAR
VERSION:2.0
PRODID:-//Nepali Calendar//EN
BEGIN:VEVENT
UID:283706bda0f4d46157d06a05fbf9404c@nepalicalendar.com
DTSTAMP:20260421T181316Z
DTSTART;VALUE=DATE:20251022
DTEND;VALUE=DATE:20251023
SUMMARY:नेपाल सम्वत ११४६ प्रारम्भ
DESCRIPTION:नेपाल सम्वत ११४६ प्रारम्भ
END:VEVENT
END:VCALENDAR