BEGIN:VCALENDAR
VERSION:2.0
PRODID:-//Nepali Calendar//EN
BEGIN:VEVENT
UID:de1994732fbcc0548ca1e6c58a6be3fb@nepalicalendar.com
DTSTAMP:20260421T181244Z
DTSTART;VALUE=DATE:20251022
DTEND;VALUE=DATE:20251023
SUMMARY:हलि तिहार
DESCRIPTION:हलि तिहार
END:VEVENT
END:VCALENDAR