BEGIN:VCALENDAR
VERSION:2.0
PRODID:-//Nepali Calendar//EN
BEGIN:VEVENT
UID:723e1c348bfccffc5888f47f1d30c6ea@nepalicalendar.com
DTSTAMP:20260421T163513Z
DTSTART;VALUE=DATE:20251022
DTEND;VALUE=DATE:20251023
SUMMARY:म्हपूजा
DESCRIPTION:म्हपूजा
END:VEVENT
END:VCALENDAR