BEGIN:VCALENDAR
VERSION:2.0
PRODID:-//Nepali Calendar//EN
BEGIN:VEVENT
UID:86b66cad6097ef1b3ec2c06939c9657b@nepalicalendar.com
DTSTAMP:20260421T163514Z
DTSTART;VALUE=DATE:20251022
DTEND;VALUE=DATE:20251023
SUMMARY:गाईगोरु पूजा
DESCRIPTION:गाईगोरु पूजा
END:VEVENT
END:VCALENDAR