BEGIN:VCALENDAR
VERSION:2.0
PRODID:-//Nepali Calendar//EN
BEGIN:VEVENT
UID:056a33ff37cafeebd2798cb460e1d94c@nepalicalendar.com
DTSTAMP:20260421T164055Z
DTSTART;VALUE=DATE:20251022
DTEND;VALUE=DATE:20251023
SUMMARY:गोवर्धन पूजा
DESCRIPTION:गोवर्धन पूजा
END:VEVENT
END:VCALENDAR