BEGIN:VCALENDAR
VERSION:2.0
PRODID:-//Nepali Calendar//EN
BEGIN:VEVENT
UID:a454c2e0abc5584f2f13538a051ce156@nepalicalendar.com
DTSTAMP:20260421T163357Z
DTSTART;VALUE=DATE:20251021
DTEND;VALUE=DATE:20251022
SUMMARY:तिहार विदा
DESCRIPTION:तिहार विदा
END:VEVENT
END:VCALENDAR