BEGIN:VCALENDAR
VERSION:2.0
PRODID:-//Nepali Calendar//EN
BEGIN:VEVENT
UID:c20e676a530ec30a718184c6fe6fca08@nepalicalendar.com
DTSTAMP:20260421T181105Z
DTSTART;VALUE=DATE:20251020
DTEND;VALUE=DATE:20251021
SUMMARY:सुखरात्री
DESCRIPTION:सुखरात्री
END:VEVENT
END:VCALENDAR