BEGIN:VCALENDAR
VERSION:2.0
PRODID:-//Nepali Calendar//EN
BEGIN:VEVENT
UID:ee9e3717a92a0a53bf70ec4999a1e25b@nepalicalendar.com
DTSTAMP:20260421T180655Z
DTSTART;VALUE=DATE:20251020
DTEND;VALUE=DATE:20251021
SUMMARY:नरक चतुर्दशी
DESCRIPTION:नरक चतुर्दशी
END:VEVENT
END:VCALENDAR