BEGIN:VCALENDAR
VERSION:2.0
PRODID:-//Nepali Calendar//EN
BEGIN:VEVENT
UID:050a60f9658d4610ea322a05a9ef1c94@nepalicalendar.com
DTSTAMP:20260421T163537Z
DTSTART;VALUE=DATE:20251020
DTEND;VALUE=DATE:20251021
SUMMARY:कुकुर तिहार
DESCRIPTION:कुकुर तिहार
END:VEVENT
END:VCALENDAR