BEGIN:VCALENDAR
VERSION:2.0
PRODID:-//Nepali Calendar//EN
BEGIN:VEVENT
UID:f24f3b875da3158a20de94c523de4ebc@nepalicalendar.com
DTSTAMP:20260421T163220Z
DTSTART;VALUE=DATE:20251020
DTEND;VALUE=DATE:20251021
SUMMARY:महाकवी लक्ष्मीप्रसाद देवकोटाको जन्म जयन्ती
DESCRIPTION:महाकवी लक्ष्मीप्रसाद देवकोटाको जन्म जयन्ती
END:VEVENT
END:VCALENDAR