BEGIN:VCALENDAR
VERSION:2.0
PRODID:-//Nepali Calendar//EN
BEGIN:VEVENT
UID:43a3d2a6e79c285c265d3a7fcd0734fe@nepalicalendar.com
DTSTAMP:20260422T005818Z
DTSTART;VALUE=DATE:20250601
DTEND;VALUE=DATE:20250602
SUMMARY:सिथि नख:
DESCRIPTION:सिथि नख:
END:VEVENT
END:VCALENDAR