BEGIN:VCALENDAR
VERSION:2.0
PRODID:-//Nepali Calendar//EN
BEGIN:VEVENT
UID:0351c720ab7addd38011d046561c0f19@nepalicalendar.com
DTSTAMP:20260421T163549Z
DTSTART;VALUE=DATE:20251020
DTEND;VALUE=DATE:20251021
SUMMARY:लक्ष्मी पूजा
DESCRIPTION:लक्ष्मी पूजा
END:VEVENT
END:VCALENDAR