BEGIN:VCALENDAR
VERSION:2.0
PRODID:-//Nepali Calendar//EN
BEGIN:VEVENT
UID:bb2334a011d3d28c34fcc9456a5f5195@nepalicalendar.com
DTSTAMP:20260421T163245Z
DTSTART;VALUE=DATE:20251019
DTEND;VALUE=DATE:20251020
SUMMARY:धनवन्तरी जयन्ती
DESCRIPTION:धनवन्तरी जयन्ती
END:VEVENT
END:VCALENDAR