BEGIN:VCALENDAR
VERSION:2.0
PRODID:-//Nepali Calendar//EN
BEGIN:VEVENT
UID:c32b04c7a49be2e866e15a2e241b2734@nepalicalendar.com
DTSTAMP:20260421T163536Z
DTSTART;VALUE=DATE:20251019
DTEND;VALUE=DATE:20251020
SUMMARY:काग तिहार
DESCRIPTION:काग तिहार
END:VEVENT
END:VCALENDAR