BEGIN:VCALENDAR
VERSION:2.0
PRODID:-//Nepali Calendar//EN
BEGIN:VEVENT
UID:2af2aa0f1d03cd2ee23cb617a05e4c7c@nepalicalendar.com
DTSTAMP:20260421T163819Z
DTSTART;VALUE=DATE:20251018
DTEND;VALUE=DATE:20251019
SUMMARY:धन त्रयोदशी व्रत (धनतेरस)
DESCRIPTION:धन त्रयोदशी व्रत (धनतेरस)
END:VEVENT
END:VCALENDAR