BEGIN:VCALENDAR
VERSION:2.0
PRODID:-//Nepali Calendar//EN
BEGIN:VEVENT
UID:692ef2d35fb568ee022af89376a08f50@nepalicalendar.com
DTSTAMP:20260421T163356Z
DTSTART;VALUE=DATE:20251018
DTEND;VALUE=DATE:20251019
SUMMARY:तुला संक्रान्ति
DESCRIPTION:तुला संक्रान्ति
END:VEVENT
END:VCALENDAR