BEGIN:VCALENDAR
VERSION:2.0
PRODID:-//Nepali Calendar//EN
BEGIN:VEVENT
UID:a8ba30e0c47a758e4a33326a387a510b@nepalicalendar.com
DTSTAMP:20260421T180610Z
DTSTART;VALUE=DATE:20251017
DTEND;VALUE=DATE:20251018
SUMMARY:अन्तर्राष्ट्रिय गरिबी निवारण दिवस
DESCRIPTION:अन्तर्राष्ट्रिय गरिबी निवारण दिवस
END:VEVENT
END:VCALENDAR