BEGIN:VCALENDAR
VERSION:2.0
PRODID:-//Nepali Calendar//EN
BEGIN:VEVENT
UID:91a94742a9ad9173df3844d4a4cc424d@nepalicalendar.com
DTSTAMP:20260421T181105Z
DTSTART;VALUE=DATE:20251017
DTEND;VALUE=DATE:20251018
SUMMARY:रमा एकादशी व्रत
DESCRIPTION:रमा एकादशी व्रत
END:VEVENT
END:VCALENDAR